BEGIN:VCALENDAR
VERSION:2.0
PRODID:-//The Opera House at Boothbay Harbor - ECPv6.15.20//NONSGML v1.0//EN
CALSCALE:GREGORIAN
METHOD:PUBLISH
X-ORIGINAL-URL:https://boothbayoperahouse.com
X-WR-CALDESC:Events for The Opera House at Boothbay Harbor
REFRESH-INTERVAL;VALUE=DURATION:PT1H
X-Robots-Tag:noindex
X-PUBLISHED-TTL:PT1H
BEGIN:VTIMEZONE
TZID:America/New_York
BEGIN:DAYLIGHT
TZOFFSETFROM:-0500
TZOFFSETTO:-0400
TZNAME:EDT
DTSTART:20250309T070000
END:DAYLIGHT
BEGIN:STANDARD
TZOFFSETFROM:-0400
TZOFFSETTO:-0500
TZNAME:EST
DTSTART:20251102T060000
END:STANDARD
BEGIN:DAYLIGHT
TZOFFSETFROM:-0500
TZOFFSETTO:-0400
TZNAME:EDT
DTSTART:20260308T070000
END:DAYLIGHT
BEGIN:STANDARD
TZOFFSETFROM:-0400
TZOFFSETTO:-0500
TZNAME:EST
DTSTART:20261101T060000
END:STANDARD
BEGIN:DAYLIGHT
TZOFFSETFROM:-0500
TZOFFSETTO:-0400
TZNAME:EDT
DTSTART:20270314T070000
END:DAYLIGHT
BEGIN:STANDARD
TZOFFSETFROM:-0400
TZOFFSETTO:-0500
TZNAME:EST
DTSTART:20271107T060000
END:STANDARD
END:VTIMEZONE
BEGIN:VEVENT
DTSTART;TZID=America/New_York:20260606T170000
DTEND;TZID=America/New_York:20260606T170000
DTSTAMP:20260423T125131
CREATED:20260219T190641Z
LAST-MODIFIED:20260219T190711Z
UID:5821-1780765200-1780765200@boothbayoperahouse.com
SUMMARY:Pihcintu Multicultural Chorus
DESCRIPTION:Free community performance. The Pihcintu Multicultural Chorus helps restart young lives. War-torn villages\, bloodshed\, famine\, and political turmoil were devastating realities for many of these young singers before being embraced by the warmth\, companionship and harmony that Pihcintu provides. Con Fullam\, an award-winning producer\, musician\, and songwriter\, combined his passion for music with a deep concern for the effect of world issues on children – creating The Pihcintu Chorus with the help of countless supporting souls from all walks of life. The members of the chorus hail from Cambodia\, China\, Congo\, El Salvador\, Egypt\, Kazakhstan\, Kenya\, Lebanon\, Saudi Arabia\, Somalia\, Sudan\, Uganda\, Viet Nam\, British West Indies\, and Zambia\, along with children whose families have been here for generations. Since its inception in 2006\, the chorus has performed on the Today Show\, National Public Radio\, Voice of America\, Al Jazeera\, Univision\, UN TV and You Tube. They have appeared at The John F. Kennedy Center for the Performing Arts\, the  National Cathedral in Washington\, DC\, and the United Nations. The chorus will be accompanied by the Akiwacu band. \nFree community performance for all ages. Doors for seating open at 4:30pm. Concert at 5:00pm.
URL:https://boothbayoperahouse.com/event/pihcintu/
LOCATION:The Opera House at Boothbay Harbor\, 86 Townsend Avenue\, Boothbay Harbor\, 04538\, United States
CATEGORIES:Music
ATTACH;FMTTYPE=image/jpeg:https://boothbayoperahouse.com/site/wp-content/uploads/Pihcintu_CDCover_1400x1400px-1-2.jpg
END:VEVENT
END:VCALENDAR