BEGIN:VCALENDAR
VERSION:2.0
PRODID:-//The Opera House at Boothbay Harbor - ECPv6.15.20//NONSGML v1.0//EN
CALSCALE:GREGORIAN
METHOD:PUBLISH
X-ORIGINAL-URL:https://boothbayoperahouse.com
X-WR-CALDESC:Events for The Opera House at Boothbay Harbor
REFRESH-INTERVAL;VALUE=DURATION:PT1H
X-Robots-Tag:noindex
X-PUBLISHED-TTL:PT1H
BEGIN:VTIMEZONE
TZID:America/New_York
BEGIN:DAYLIGHT
TZOFFSETFROM:-0500
TZOFFSETTO:-0400
TZNAME:EDT
DTSTART:20250309T070000
END:DAYLIGHT
BEGIN:STANDARD
TZOFFSETFROM:-0400
TZOFFSETTO:-0500
TZNAME:EST
DTSTART:20251102T060000
END:STANDARD
BEGIN:DAYLIGHT
TZOFFSETFROM:-0500
TZOFFSETTO:-0400
TZNAME:EDT
DTSTART:20260308T070000
END:DAYLIGHT
BEGIN:STANDARD
TZOFFSETFROM:-0400
TZOFFSETTO:-0500
TZNAME:EST
DTSTART:20261101T060000
END:STANDARD
BEGIN:DAYLIGHT
TZOFFSETFROM:-0500
TZOFFSETTO:-0400
TZNAME:EDT
DTSTART:20270314T070000
END:DAYLIGHT
BEGIN:STANDARD
TZOFFSETFROM:-0400
TZOFFSETTO:-0500
TZNAME:EST
DTSTART:20271107T060000
END:STANDARD
END:VTIMEZONE
BEGIN:VEVENT
DTSTART;TZID=America/New_York:20260612T193000
DTEND;TZID=America/New_York:20260612T193000
DTSTAMP:20260423T125228
CREATED:20260217T210927Z
LAST-MODIFIED:20260220T181304Z
UID:5814-1781292600-1781292600@boothbayoperahouse.com
SUMMARY:Karla Bonoff
DESCRIPTION:Karla’s legacy as a writer and her perseverance as a performer are best summed up in a Billboard Magazine review of Karla’s “All My Life” recording. “Long before Alanis and Jewel\, there was a breed of singer/songwriters whose earthly anthems of soul-searching\, heartache and joy touched souls in a way few can muster today.” In addition to her own albums\, Karla was a prolific songwriter\, including writing many of Linda Rondstadt’s biggest hits. She is touring with Nina Gerber on this return visit to the Opera House. \nAdvance discounted tickets are $35\, available March 18. Regular tickets are $40.
URL:https://boothbayoperahouse.com/event/karla-bonoff-2/
LOCATION:The Opera House at Boothbay Harbor\, 86 Townsend Avenue\, Boothbay Harbor\, 04538\, United States
CATEGORIES:Music
ATTACH;FMTTYPE=image/jpeg:https://boothbayoperahouse.com/site/wp-content/uploads/Karla-Bonoff-approved.jpg
END:VEVENT
END:VCALENDAR