BEGIN:VCALENDAR
VERSION:2.0
PRODID:-//The Opera House at Boothbay Harbor - ECPv6.15.20//NONSGML v1.0//EN
CALSCALE:GREGORIAN
METHOD:PUBLISH
X-WR-CALNAME:The Opera House at Boothbay Harbor
X-ORIGINAL-URL:https://boothbayoperahouse.com
X-WR-CALDESC:Events for The Opera House at Boothbay Harbor
REFRESH-INTERVAL;VALUE=DURATION:PT1H
X-Robots-Tag:noindex
X-PUBLISHED-TTL:PT1H
BEGIN:VTIMEZONE
TZID:America/New_York
BEGIN:DAYLIGHT
TZOFFSETFROM:-0500
TZOFFSETTO:-0400
TZNAME:EDT
DTSTART:20250309T070000
END:DAYLIGHT
BEGIN:STANDARD
TZOFFSETFROM:-0400
TZOFFSETTO:-0500
TZNAME:EST
DTSTART:20251102T060000
END:STANDARD
BEGIN:DAYLIGHT
TZOFFSETFROM:-0500
TZOFFSETTO:-0400
TZNAME:EDT
DTSTART:20260308T070000
END:DAYLIGHT
BEGIN:STANDARD
TZOFFSETFROM:-0400
TZOFFSETTO:-0500
TZNAME:EST
DTSTART:20261101T060000
END:STANDARD
BEGIN:DAYLIGHT
TZOFFSETFROM:-0500
TZOFFSETTO:-0400
TZNAME:EDT
DTSTART:20270314T070000
END:DAYLIGHT
BEGIN:STANDARD
TZOFFSETFROM:-0400
TZOFFSETTO:-0500
TZNAME:EST
DTSTART:20271107T060000
END:STANDARD
END:VTIMEZONE
BEGIN:VEVENT
DTSTART;TZID=America/New_York:20260701T170000
DTEND;TZID=America/New_York:20260701T170000
DTSTAMP:20260423T124843
CREATED:20260317T163816Z
LAST-MODIFIED:20260317T163825Z
UID:5918-1782925200-1782925200@boothbayoperahouse.com
SUMMARY:Allan Winkler - A Folk Revival Moment
DESCRIPTION:Free community talk and musical performance in the upstairs bar at the Opera House. Allan Winkler is a retired American History professor\, who taught for almost 50 years at Yale University\, the University of Oregon\, Miami University of Ohio\, and various universities overseas. Author of 13 books\, his last work was a biography of Pete Seeger\, the banjo-playing father of American folk music\, which combined his love of music and history. A guitar-playing musician himself\, he has performed at the Princeton Folk Music Society\, Harvard University\, the University of Maryland\, Purdue University\, Helsinki University and other institutions around the country and abroad. This program\, the Folk Music Revival of the 1950s and 1960s\, starts with the music of Woody Guthrie and Pete Seeger\, and then includes songs by the musicians that followed\, including Joan Baez\, Bob Dylan\, Tom Paxton\, Peter\, Paul & Mary\, and others. Program length 75 minutes. No tickets required. Beverages available for sale at the bar\, please do not bring food or drink into the Opera House.
URL:https://boothbayoperahouse.com/event/allan-winkler-a-folk-revival-moment/
CATEGORIES:Music
ATTACH;FMTTYPE=image/jpeg:https://boothbayoperahouse.com/site/wp-content/uploads/Allan-Winkler-2026.jpg
END:VEVENT
END:VCALENDAR