BEGIN:VCALENDAR
VERSION:2.0
PRODID:-//The Opera House at Boothbay Harbor - ECPv6.15.20//NONSGML v1.0//EN
CALSCALE:GREGORIAN
METHOD:PUBLISH
X-ORIGINAL-URL:https://boothbayoperahouse.com
X-WR-CALDESC:Events for The Opera House at Boothbay Harbor
REFRESH-INTERVAL;VALUE=DURATION:PT1H
X-Robots-Tag:noindex
X-PUBLISHED-TTL:PT1H
BEGIN:VTIMEZONE
TZID:America/New_York
BEGIN:DAYLIGHT
TZOFFSETFROM:-0500
TZOFFSETTO:-0400
TZNAME:EDT
DTSTART:20250309T070000
END:DAYLIGHT
BEGIN:STANDARD
TZOFFSETFROM:-0400
TZOFFSETTO:-0500
TZNAME:EST
DTSTART:20251102T060000
END:STANDARD
BEGIN:DAYLIGHT
TZOFFSETFROM:-0500
TZOFFSETTO:-0400
TZNAME:EDT
DTSTART:20260308T070000
END:DAYLIGHT
BEGIN:STANDARD
TZOFFSETFROM:-0400
TZOFFSETTO:-0500
TZNAME:EST
DTSTART:20261101T060000
END:STANDARD
BEGIN:DAYLIGHT
TZOFFSETFROM:-0500
TZOFFSETTO:-0400
TZNAME:EDT
DTSTART:20270314T070000
END:DAYLIGHT
BEGIN:STANDARD
TZOFFSETFROM:-0400
TZOFFSETTO:-0500
TZNAME:EST
DTSTART:20271107T060000
END:STANDARD
END:VTIMEZONE
BEGIN:VEVENT
DTSTART;TZID=America/New_York:20260709T193000
DTEND;TZID=America/New_York:20260709T193000
DTSTAMP:20260423T155604
CREATED:20260220T210758Z
LAST-MODIFIED:20260313T150728Z
UID:5841-1783625400-1783625400@boothbayoperahouse.com
SUMMARY:I Draw Slow
DESCRIPTION:This critically acclaimed 5 piece band has consistently redefined roots music over their 4 celebrated roots albums. I Draw Slow has ben #1 on the Irish Independent Chart and their songs are streamed in the millions worldwide. Their distinctive blend of Irish and Appalachian roots composition has been licensed for film\, TV\, and advertising and is widely covered and recorded by other artists.  At the helm of the band are siblings Dave and Louise Holden\, signed to Nashville label Compass Records. Fans regularly travel hundreds of miles to see their dynamic\, emotionally-charged performances that captivate audiences with exquisite balladry\, then brings them to their feet with high energy\, bass-heavy dance trad. Their latest album moves once again into new roots territory—employing traditional string instruments to deliver contemporary themes and alt-folk grooves. I Draw Slow has fully established itself in the North American acoustic music scene\, touring the US and Canada multiple times a year and appearing regularly at some of the biggest and most iconic roots festivals including Pickathon\, Merelfest and Grey Fox. Sponsored by a fan of the band! \nAdvance discounted tickets $25\, available beginning April 1. Regular tickets $30. \n 
URL:https://boothbayoperahouse.com/event/i-draw-slow-2/
LOCATION:The Opera House at Boothbay Harbor\, 86 Townsend Avenue\, Boothbay Harbor\, 04538\, United States
CATEGORIES:Music
ATTACH;FMTTYPE=image/jpeg:https://boothbayoperahouse.com/site/wp-content/uploads/I-Draw-Slow-Prom-pic-hi-res-version-1.jpg
END:VEVENT
END:VCALENDAR