BEGIN:VCALENDAR
VERSION:2.0
PRODID:-//The Opera House at Boothbay Harbor - ECPv6.15.20//NONSGML v1.0//EN
CALSCALE:GREGORIAN
METHOD:PUBLISH
X-ORIGINAL-URL:https://boothbayoperahouse.com
X-WR-CALDESC:Events for The Opera House at Boothbay Harbor
REFRESH-INTERVAL;VALUE=DURATION:PT1H
X-Robots-Tag:noindex
X-PUBLISHED-TTL:PT1H
BEGIN:VTIMEZONE
TZID:America/New_York
BEGIN:DAYLIGHT
TZOFFSETFROM:-0500
TZOFFSETTO:-0400
TZNAME:EDT
DTSTART:20250309T070000
END:DAYLIGHT
BEGIN:STANDARD
TZOFFSETFROM:-0400
TZOFFSETTO:-0500
TZNAME:EST
DTSTART:20251102T060000
END:STANDARD
BEGIN:DAYLIGHT
TZOFFSETFROM:-0500
TZOFFSETTO:-0400
TZNAME:EDT
DTSTART:20260308T070000
END:DAYLIGHT
BEGIN:STANDARD
TZOFFSETFROM:-0400
TZOFFSETTO:-0500
TZNAME:EST
DTSTART:20261101T060000
END:STANDARD
BEGIN:DAYLIGHT
TZOFFSETFROM:-0500
TZOFFSETTO:-0400
TZNAME:EDT
DTSTART:20270314T070000
END:DAYLIGHT
BEGIN:STANDARD
TZOFFSETFROM:-0400
TZOFFSETTO:-0500
TZNAME:EST
DTSTART:20271107T060000
END:STANDARD
END:VTIMEZONE
BEGIN:VEVENT
DTSTART;TZID=America/New_York:20260710T193000
DTEND;TZID=America/New_York:20260710T193000
DTSTAMP:20260423T173350
CREATED:20260211T191128Z
LAST-MODIFIED:20260313T150751Z
UID:5788-1783711800-1783711800@boothbayoperahouse.com
SUMMARY:James Montgomery & Sean Chambers with the Savoy Brown Rhythm Section
DESCRIPTION:This will be one big night of blues in Boothbay Harbor. When James Montgomery played in Nashville as a member of the Johnny Winter Band\, the Nashville Tennessean wrote “If ever the me came to use two “legendary” tags in one story\, it is to describe both Winter and Montgomery. They are blues masters of the first and highest degree.” Harmonica ace Montgomery has earned that “legendary” tag through a stellar career that spans 5 decades. In the blues world he is truly one of the greats. Tonight he is joined by Sean Chambers and the Savoy Brown Rhythm Section for what promises to be a powerful night of music from these blues legends. \nAdvance discounted tickets $30\, directly from the box office at 207-633-5159. Regular tickets $35\, on sale beginning March 18.
URL:https://boothbayoperahouse.com/event/james-montgomery-sean-chambers-with-the-savoy-brown-rhythm-section/
LOCATION:The Opera House at Boothbay Harbor\, 86 Townsend Avenue\, Boothbay Harbor\, 04538\, United States
CATEGORIES:Music
ATTACH;FMTTYPE=image/jpeg:https://boothbayoperahouse.com/site/wp-content/uploads/James-Montgomery-artist-supplied.jpg
END:VEVENT
END:VCALENDAR