BEGIN:VCALENDAR
VERSION:2.0
PRODID:-//The Opera House at Boothbay Harbor - ECPv6.15.20//NONSGML v1.0//EN
CALSCALE:GREGORIAN
METHOD:PUBLISH
X-WR-CALNAME:The Opera House at Boothbay Harbor
X-ORIGINAL-URL:https://boothbayoperahouse.com
X-WR-CALDESC:Events for The Opera House at Boothbay Harbor
REFRESH-INTERVAL;VALUE=DURATION:PT1H
X-Robots-Tag:noindex
X-PUBLISHED-TTL:PT1H
BEGIN:VTIMEZONE
TZID:America/New_York
BEGIN:DAYLIGHT
TZOFFSETFROM:-0500
TZOFFSETTO:-0400
TZNAME:EDT
DTSTART:20250309T070000
END:DAYLIGHT
BEGIN:STANDARD
TZOFFSETFROM:-0400
TZOFFSETTO:-0500
TZNAME:EST
DTSTART:20251102T060000
END:STANDARD
BEGIN:DAYLIGHT
TZOFFSETFROM:-0500
TZOFFSETTO:-0400
TZNAME:EDT
DTSTART:20260308T070000
END:DAYLIGHT
BEGIN:STANDARD
TZOFFSETFROM:-0400
TZOFFSETTO:-0500
TZNAME:EST
DTSTART:20261101T060000
END:STANDARD
BEGIN:DAYLIGHT
TZOFFSETFROM:-0500
TZOFFSETTO:-0400
TZNAME:EDT
DTSTART:20270314T070000
END:DAYLIGHT
BEGIN:STANDARD
TZOFFSETFROM:-0400
TZOFFSETTO:-0500
TZNAME:EST
DTSTART:20271107T060000
END:STANDARD
END:VTIMEZONE
BEGIN:VEVENT
DTSTART;TZID=America/New_York:20260715T193000
DTEND;TZID=America/New_York:20260715T193000
DTSTAMP:20260423T221904
CREATED:20260211T191840Z
LAST-MODIFIED:20260305T170044Z
UID:5791-1784143800-1784143800@boothbayoperahouse.com
SUMMARY:Haggis X-1
DESCRIPTION:Haggis X-1 is a high-energy Celtic rock band built around veteran members of acclaimed Canadian group Enter the Haggis. Over a 30-year career\, Enter the Haggis toured extensively across North America\, performing on national television programs including Regis and Kelly\, A&E\, PBS\, and at prestigious stages including the Kennedy Center for the Arts. Carrying the legacy forward\, Haggis X-1 blends driving rhythms\, pipes\, fiddle\, and memorable songs into a powerful live show that connects equally with longtime Celtic music fans and brand-new listeners. The band delivers a mix of beloved Enter the Haggis favorites and fresh material\, all rooted in strong melodies\, big choruses\, and a sense of celebration. In addition to Craig Downie\, Trevor Lewington and Tom Barraco of Enter the Haggis\, Haggis X-1’s lineup features virtuoso fiddler and multi-instrumentalist Jesse Grandmont on fiddle and mandolin (known for appearances on America’s Got Talent and performances with Barrage and Ben Harper)\, guitarist Will Earley adding rhythmic punch and melodic flair\, vocalist/keyboardist Charlotte Roth bringing dynamic lead vocals and rich textures to the band’s sound\, and Anthony Candullo on bass. Together\, they create an engaging\, contemporary take on Celtic rock. \nAdvance discounted tickets\, $30\, available directly from the box office at 207-633-5159. Regular tickets $35.
URL:https://boothbayoperahouse.com/event/haggis-x-1/
LOCATION:The Opera House at Boothbay Harbor\, 86 Townsend Avenue\, Boothbay Harbor\, 04538\, United States
CATEGORIES:Music
ATTACH;FMTTYPE=image/jpeg:https://boothbayoperahouse.com/site/wp-content/uploads/Haggis-provided.jpg
END:VEVENT
END:VCALENDAR