BEGIN:VCALENDAR
VERSION:2.0
PRODID:-//The Opera House at Boothbay Harbor - ECPv6.15.20//NONSGML v1.0//EN
CALSCALE:GREGORIAN
METHOD:PUBLISH
X-WR-CALNAME:The Opera House at Boothbay Harbor
X-ORIGINAL-URL:https://boothbayoperahouse.com
X-WR-CALDESC:Events for The Opera House at Boothbay Harbor
REFRESH-INTERVAL;VALUE=DURATION:PT1H
X-Robots-Tag:noindex
X-PUBLISHED-TTL:PT1H
BEGIN:VTIMEZONE
TZID:America/New_York
BEGIN:DAYLIGHT
TZOFFSETFROM:-0500
TZOFFSETTO:-0400
TZNAME:EDT
DTSTART:20250309T070000
END:DAYLIGHT
BEGIN:STANDARD
TZOFFSETFROM:-0400
TZOFFSETTO:-0500
TZNAME:EST
DTSTART:20251102T060000
END:STANDARD
BEGIN:DAYLIGHT
TZOFFSETFROM:-0500
TZOFFSETTO:-0400
TZNAME:EDT
DTSTART:20260308T070000
END:DAYLIGHT
BEGIN:STANDARD
TZOFFSETFROM:-0400
TZOFFSETTO:-0500
TZNAME:EST
DTSTART:20261101T060000
END:STANDARD
BEGIN:DAYLIGHT
TZOFFSETFROM:-0500
TZOFFSETTO:-0400
TZNAME:EDT
DTSTART:20270314T070000
END:DAYLIGHT
BEGIN:STANDARD
TZOFFSETFROM:-0400
TZOFFSETTO:-0500
TZNAME:EST
DTSTART:20271107T060000
END:STANDARD
END:VTIMEZONE
BEGIN:VEVENT
DTSTART;TZID=America/New_York:20260327T180000
DTEND;TZID=America/New_York:20260327T180000
DTSTAMP:20260423T201213
CREATED:20251221T195413Z
LAST-MODIFIED:20260304T185041Z
UID:5716-1774634400-1774634400@boothbayoperahouse.com
SUMMARY:Y-ARTS Community Players Present Alice in Wonderland
DESCRIPTION:Performances March 27\, 28\, 29. Under the direction of Emily Mirable\, the Y-Arts Community Players bring Alice in Wonderland to the stage this spring. Tickets are $10 in advance\, all ages\, and regular tickets are $15 on the day of the performance.  Four performances including Friday\, March 27 at 6pm\,  Saturday at 2pm and 6pm\, and Sunday at 2pm.  Limited seating\, buy your tickets early! \nAdvance Discounted Tickets available at the Opera House box office – open Weds-Friday from 10am – 2pm – or call 207-633-5159. Tickets are NOT available at the YMCA.
URL:https://boothbayoperahouse.com/event/y-arts-community-players-present-alice-in-wonderland/
CATEGORIES:Special Event
ATTACH;FMTTYPE=image/jpeg:https://boothbayoperahouse.com/site/wp-content/uploads/Alice-in-Wonderland-e1768422648122.jpg
END:VEVENT
END:VCALENDAR