BEGIN:VCALENDAR
VERSION:2.0
PRODID:-//The Opera House at Boothbay Harbor - ECPv6.15.20//NONSGML v1.0//EN
CALSCALE:GREGORIAN
METHOD:PUBLISH
X-WR-CALNAME:The Opera House at Boothbay Harbor
X-ORIGINAL-URL:https://boothbayoperahouse.com
X-WR-CALDESC:Events for The Opera House at Boothbay Harbor
REFRESH-INTERVAL;VALUE=DURATION:PT1H
X-Robots-Tag:noindex
X-PUBLISHED-TTL:PT1H
BEGIN:VTIMEZONE
TZID:America/New_York
BEGIN:DAYLIGHT
TZOFFSETFROM:-0500
TZOFFSETTO:-0400
TZNAME:EDT
DTSTART:20250309T070000
END:DAYLIGHT
BEGIN:STANDARD
TZOFFSETFROM:-0400
TZOFFSETTO:-0500
TZNAME:EST
DTSTART:20251102T060000
END:STANDARD
BEGIN:DAYLIGHT
TZOFFSETFROM:-0500
TZOFFSETTO:-0400
TZNAME:EDT
DTSTART:20260308T070000
END:DAYLIGHT
BEGIN:STANDARD
TZOFFSETFROM:-0400
TZOFFSETTO:-0500
TZNAME:EST
DTSTART:20261101T060000
END:STANDARD
BEGIN:DAYLIGHT
TZOFFSETFROM:-0500
TZOFFSETTO:-0400
TZNAME:EDT
DTSTART:20270314T070000
END:DAYLIGHT
BEGIN:STANDARD
TZOFFSETFROM:-0400
TZOFFSETTO:-0500
TZNAME:EST
DTSTART:20271107T060000
END:STANDARD
END:VTIMEZONE
BEGIN:VEVENT
DTSTART;TZID=America/New_York:20260627T193000
DTEND;TZID=America/New_York:20260627T193000
DTSTAMP:20260423T175829
CREATED:20260211T185952Z
LAST-MODIFIED:20260313T150638Z
UID:5785-1782588600-1782588600@boothbayoperahouse.com
SUMMARY:Lucy Wainwright Roche & Suzzy Roche
DESCRIPTION:Those familiar with Lucy Wainwright Roche are aware of her bell tone voice\, her unshakable melodies\, and her knack for wise\, wry lyrics that clench the heart. It’s no surprise that as the daughter of Suzzy Roche and Loudon Wainwright III\, and half sibling to Rufus and Martha Wainwright\, that she grew up on the road\, steeped in music. Armed with a guitar\, a deadpan sense of humor\, killer songs\, and a voice that makes tough guys cry\, she’s built a solid solo artist following across the US and Europe. Tonight she is joined on the Opera House stage by her mother\, Suzzy Roche\,founding member of award-winning band\, The Roches. Together Lucy and Suzzy have won best singer/songwriter album of the year at the Independent Music Awards. We welcome this talented mother/daughter duo to the stage tonight. \nSpecial advance discounted tickets $25\, available from the box office beginning March 18. Regular tickets\, $30.
URL:https://boothbayoperahouse.com/event/lucy-wainwright-roche-suzzy-roche/
LOCATION:The Opera House at Boothbay Harbor\, 86 Townsend Avenue\, Boothbay Harbor\, 04538\, United States
CATEGORIES:Music
ATTACH;FMTTYPE=image/jpeg:https://boothbayoperahouse.com/site/wp-content/uploads/Lucy-Wainwright-Suzzy-Roche.jpeg
END:VEVENT
BEGIN:VEVENT
DTSTART;TZID=America/New_York:20260620T193000
DTEND;TZID=America/New_York:20260620T193000
DTSTAMP:20260423T175829
CREATED:20260219T185811Z
LAST-MODIFIED:20260318T184014Z
UID:5818-1781983800-1781983800@boothbayoperahouse.com
SUMMARY:Windborne
DESCRIPTION:“The most exciting vocal group in a generation\,” Windborne’s captivating performances draw on the singers’ deep roots in traditions of vocal harmony\, with the uniqueness of their artistic approach bringing old songs into the present. With a 20-year background studying polyphonic music around the world\, Lauren Breunig\, Jeremy Carter-Gordon\, Lynn Rowan\, and Will Rowan share a vibrant energy onstage with a blending of voices that comes of dedicated practice. The ensemble shifts effortlessly between drastically different styles of music\, drawing their audience along on a journey that spans continents and centuries\, illuminating and expanding on the profound power and variation of the human voice. Sponsored by P&R&R&G&B&P&L Group. \nAdvance tickets $25\, directly from the box office at 207-633-5159. Regular tickets $30. Available March 18.
URL:https://boothbayoperahouse.com/event/windborne-2/
CATEGORIES:Music
ATTACH;FMTTYPE=image/jpeg:https://boothbayoperahouse.com/site/wp-content/uploads/Windborne-at-WOMEX22-by-Eric-van-Nieuwland-WEB.jpg
END:VEVENT
BEGIN:VEVENT
DTSTART;TZID=America/New_York:20260619T193000
DTEND;TZID=America/New_York:20260619T193000
DTSTAMP:20260423T175829
CREATED:20260211T184421Z
LAST-MODIFIED:20260220T181513Z
UID:5782-1781897400-1781897400@boothbayoperahouse.com
SUMMARY:Cantrip
DESCRIPTION:The name Cantrip is an Old Scots word meaning a charm\, magic spell or piece of mischief and it aptly describes the unexpected twists and turns in the band’s musical arrangements. Swirling border pipes\, raging fiddle\, thunderous guitar and three rich voices blend to create a sound energetic enough to tear the roof off. Echoes can be heard of trad music from the 1960s and 70s\, but the years have slowly infested their music with the sounds of funk\, metal\, bluegrass\, swing\, and even klezmer. Cantrip sprung from a local session in Edinburgh nearly twenty years ago. Their driving music immediately caught the attention of the masses\, and they were quickly signed to the Foot Stompin’ label. With their first album “Silver” (2001) in hand\, Cantrip made its way across the water to the United States\, where they have been received with roars and shouts (of enjoyment) in the decades since. Sponsored by a fan of the band! \nAdvance discounted tickets available beginning March 11. Advance tickets $25. Regular tickets $30.
URL:https://boothbayoperahouse.com/event/cantrip/
CATEGORIES:Music
ATTACH;FMTTYPE=image/jpeg:https://boothbayoperahouse.com/site/wp-content/uploads/Cantrip-2026-artist-supplied-e1770835252888.jpg
END:VEVENT
BEGIN:VEVENT
DTSTART;TZID=America/New_York:20260612T193000
DTEND;TZID=America/New_York:20260612T193000
DTSTAMP:20260423T175829
CREATED:20260217T210927Z
LAST-MODIFIED:20260220T181304Z
UID:5814-1781292600-1781292600@boothbayoperahouse.com
SUMMARY:Karla Bonoff
DESCRIPTION:Karla’s legacy as a writer and her perseverance as a performer are best summed up in a Billboard Magazine review of Karla’s “All My Life” recording. “Long before Alanis and Jewel\, there was a breed of singer/songwriters whose earthly anthems of soul-searching\, heartache and joy touched souls in a way few can muster today.” In addition to her own albums\, Karla was a prolific songwriter\, including writing many of Linda Rondstadt’s biggest hits. She is touring with Nina Gerber on this return visit to the Opera House. \nAdvance discounted tickets are $35\, available March 18. Regular tickets are $40.
URL:https://boothbayoperahouse.com/event/karla-bonoff-2/
LOCATION:The Opera House at Boothbay Harbor\, 86 Townsend Avenue\, Boothbay Harbor\, 04538\, United States
CATEGORIES:Music
ATTACH;FMTTYPE=image/jpeg:https://boothbayoperahouse.com/site/wp-content/uploads/Karla-Bonoff-approved.jpg
END:VEVENT
BEGIN:VEVENT
DTSTART;TZID=America/New_York:20260611T193000
DTEND;TZID=America/New_York:20260611T193000
DTSTAMP:20260423T175829
CREATED:20260211T183153Z
LAST-MODIFIED:20260305T163813Z
UID:5779-1781206200-1781206200@boothbayoperahouse.com
SUMMARY:Gaelic Storm
DESCRIPTION:Billboard world chart-topping Gaelic Storm\, a multi-national\, Celtic juggernaut grows stronger with each live performance\, and after more than two decades of touring they are a true force to be reckoned with. The band attributes their continued success to their fanatic audience\, and it’s a well-diversified crowd for sure – attracting fans of every genre with their rich storytelling\, energetic instrumentals\, devotion to Celtic traditions and passion for their stagecraft. Gaelic Storm is a show not-to-be-missed and one that has helped kick off the summer season at the Opera House on many occasions. Tonight will be a blast as these seasoned touring musicians blow their musical storm into town!  Advance discounted tickets\, $35\, on sale beginning March 11. Regular tickets $40. Enthusiastically sponsored by First Federal Savings and Loan.
URL:https://boothbayoperahouse.com/event/gaelic-storm-3/
LOCATION:The Opera House at Boothbay Harbor\, 86 Townsend Avenue\, Boothbay Harbor\, 04538\, United States
CATEGORIES:Music
ATTACH;FMTTYPE=image/jpeg:https://boothbayoperahouse.com/site/wp-content/uploads/Gaelic-Storm-artist-supplied-e1770834467603.jpeg
END:VEVENT
BEGIN:VEVENT
DTSTART;TZID=America/New_York:20260606T170000
DTEND;TZID=America/New_York:20260606T170000
DTSTAMP:20260423T175829
CREATED:20260219T190641Z
LAST-MODIFIED:20260219T190711Z
UID:5821-1780765200-1780765200@boothbayoperahouse.com
SUMMARY:Pihcintu Multicultural Chorus
DESCRIPTION:Free community performance. The Pihcintu Multicultural Chorus helps restart young lives. War-torn villages\, bloodshed\, famine\, and political turmoil were devastating realities for many of these young singers before being embraced by the warmth\, companionship and harmony that Pihcintu provides. Con Fullam\, an award-winning producer\, musician\, and songwriter\, combined his passion for music with a deep concern for the effect of world issues on children – creating The Pihcintu Chorus with the help of countless supporting souls from all walks of life. The members of the chorus hail from Cambodia\, China\, Congo\, El Salvador\, Egypt\, Kazakhstan\, Kenya\, Lebanon\, Saudi Arabia\, Somalia\, Sudan\, Uganda\, Viet Nam\, British West Indies\, and Zambia\, along with children whose families have been here for generations. Since its inception in 2006\, the chorus has performed on the Today Show\, National Public Radio\, Voice of America\, Al Jazeera\, Univision\, UN TV and You Tube. They have appeared at The John F. Kennedy Center for the Performing Arts\, the  National Cathedral in Washington\, DC\, and the United Nations. The chorus will be accompanied by the Akiwacu band. \nFree community performance for all ages. Doors for seating open at 4:30pm. Concert at 5:00pm.
URL:https://boothbayoperahouse.com/event/pihcintu/
LOCATION:The Opera House at Boothbay Harbor\, 86 Townsend Avenue\, Boothbay Harbor\, 04538\, United States
CATEGORIES:Music
ATTACH;FMTTYPE=image/jpeg:https://boothbayoperahouse.com/site/wp-content/uploads/Pihcintu_CDCover_1400x1400px-1-2.jpg
END:VEVENT
BEGIN:VEVENT
DTSTART;TZID=America/New_York:20260530T193000
DTEND;TZID=America/New_York:20260530T193000
DTSTAMP:20260423T175829
CREATED:20260109T192725Z
LAST-MODIFIED:20260109T192737Z
UID:5754-1780169400-1780169400@boothbayoperahouse.com
SUMMARY:Suzy Bogguss
DESCRIPTION:Grammy award-winning and Platinum selling artist Suzy Bogguss is one to chase the muse wherever it may lead. She has covered Country\, Swing\, Jazz\, Folk\, Americana and Roots music with style and grace. During the creative explosion that was country music in the 1990s Suzy Bogguss sold 4 million records with sparkling radio hits like “Outbound Plane”\, “Someday Soon”\, “Letting Go”\, “Drive South”\, and “Hey Cinderella”.  Her latest offering\, Prayin’ for Sunshine\, is an Americana tour de force with all songs written by Bogguss. She frequently tours with country radio divas Terri Clark and Pam Tills\, and recently with Kathy Mattea on their Together at Last tour. Her live performances have been lauded by fans\, critics and buyers as “a show not to miss!” Suzy’s appeal has never wavered and her fan base continues to grow with constant touring around the globe. This will be one joyous night from beginning to end. Advance discounted tickets $35\, regular tickets $40.
URL:https://boothbayoperahouse.com/event/suzy-bogguss/
LOCATION:The Opera House at Boothbay Harbor\, 86 Townsend Avenue\, Boothbay Harbor\, 04538\, United States
CATEGORIES:Music
ATTACH;FMTTYPE=image/jpeg:https://boothbayoperahouse.com/site/wp-content/uploads/Suzy-Bogguss-by-Jeff-Fasano.jpeg
END:VEVENT
BEGIN:VEVENT
DTSTART;TZID=America/New_York:20260528T193000
DTEND;TZID=America/New_York:20260528T193000
DTSTAMP:20260423T175829
CREATED:20260109T192016Z
LAST-MODIFIED:20260313T145436Z
UID:5751-1779996600-1779996600@boothbayoperahouse.com
SUMMARY:Traverse
DESCRIPTION:Winner of Quebec’s prestigious OPUS Prize for Album of the Year – Traditional Québécois Music\, Traverse is a musical journey into the heart of traditional fiddle music that resonates with nuance and vitality. “Gorgeous\, refreshing” raves The Guardian\, while Songlines calls the band’s music “mature\, dignified and rewarding.” With champion fiddler Laura Risk\, Nicholas Williams of Genticorum on accordion and flute\, and Rachel Aucoin on piano\, Traverse draws from deep immersion into traditional musical communities\, from Montreal to the Gaspé via Scotland.  Together\, the trio plays with knife’s-edge precision and a rare intuitive connection that draws listeners into a riveting musical experience. Advance tickets $25\, from the box office at 207-633-5159. Regular tickets $30 online and day of show.\n \nSponsored by the Imhof-Mikkelsen Family
URL:https://boothbayoperahouse.com/event/traverse/
LOCATION:The Opera House at Boothbay Harbor\, 86 Townsend Avenue\, Boothbay Harbor\, 04538\, United States
CATEGORIES:Music
ATTACH;FMTTYPE=image/jpeg:https://boothbayoperahouse.com/site/wp-content/uploads/Traverse-Photo1-credit_EmmanuelleRoberge-1024x683-1.jpg
END:VEVENT
BEGIN:VEVENT
DTSTART;TZID=America/New_York:20260523T193000
DTEND;TZID=America/New_York:20260523T193000
DTSTAMP:20260423T175829
CREATED:20260130T205627Z
LAST-MODIFIED:20260313T151448Z
UID:5766-1779564600-1779564600@boothbayoperahouse.com
SUMMARY:Andrew Duhon
DESCRIPTION:Critics say – “Another world-class voice is heard from Louisiana\, another soulful\, mesmerizing singer who writes emotional songs with impact and heart. Andrew Duhon is a troubadour for the next generation\, a story-teller for his generation. Measured in the blues with the gift of narrative\, Andrew¹s songs will not only make you think\, they will make you sing along\, days later. This a young artist to watch\, and to hear\, as soon as you can find a way.”  John Snyder.   Duhon brings the craft of a master short story writer to his songs and in doing so creates a series of skillfully rendered vignettes. We are deeply honored to welcome him back to the stage tonight thanks to sponsorship support from  J. Edward Knight Insurance. Appearing tonight with his trio. \nAdvance tickets $25\, from the box office at 207-633-5159. Regular tickets $30.
URL:https://boothbayoperahouse.com/event/andrew-duhon-3/
LOCATION:The Opera House at Boothbay Harbor\, 86 Townsend Avenue\, Boothbay Harbor\, 04538\, United States
CATEGORIES:Music
ATTACH;FMTTYPE=image/jpeg:https://boothbayoperahouse.com/site/wp-content/uploads/Andrew-Duhon-new-2026-artist-supplied.jpeg
END:VEVENT
BEGIN:VEVENT
DTSTART;TZID=America/New_York:20260508T193000
DTEND;TZID=America/New_York:20260508T193000
DTSTAMP:20260423T175829
CREATED:20260109T185009Z
LAST-MODIFIED:20260109T185019Z
UID:5745-1778268600-1778268600@boothbayoperahouse.com
SUMMARY:Nigel Wearne
DESCRIPTION:Here’s what others’ say about this rising Australian talent: “Warmth flecked with grit” – Rolling Stone. “The vocal swagger of Van Morrison and dark spirituality and intelligence of Nick Cave”​​ – the Weekend Australian. “Intoxicating New Orleans-tinged Americana… a bit of Waits\, some Early James and C.W. Stoneking” says Post to Wire while the Grateful Web says he’s “Django Reinhardt with a cowboy twist.” We are all looking forward to hearing this new voice on our old stage this season! Advance tickets $20 directly from the box office at 207-633-5159. Regular tickets $25 online and day of show.
URL:https://boothbayoperahouse.com/event/nigel-wearne/
LOCATION:The Opera House at Boothbay Harbor\, 86 Townsend Avenue\, Boothbay Harbor\, 04538\, United States
CATEGORIES:Music
ATTACH;FMTTYPE=image/jpeg:https://boothbayoperahouse.com/site/wp-content/uploads/Nigel-Wearne-1-scaled-e1771358893537.jpg
END:VEVENT
BEGIN:VEVENT
DTSTART;TZID=America/New_York:20260502T193000
DTEND;TZID=America/New_York:20260502T193000
DTSTAMP:20260423T175829
CREATED:20260109T182658Z
LAST-MODIFIED:20260114T202628Z
UID:5738-1777750200-1777750200@boothbayoperahouse.com
SUMMARY:Lara Tupper & Bobby Sweet
DESCRIPTION:Boothbay native\, vocalist Lara Tupper and guitarist/vocalist Bobby Sweet present spirited interpretations of folk and pop standards mixed with Bobby’s original compositions in what promises to be a joyful night of music and stories this Spring. These two are perennial audience favorites for good reasons! Advance discounted tickets only $20\, available directly from the Opera House box office. Regular tickets $25.
URL:https://boothbayoperahouse.com/event/lara-tupper-bobby-sweet-2/
LOCATION:The Opera House at Boothbay Harbor\, 86 Townsend Avenue\, Boothbay Harbor\, 04538\, United States
CATEGORIES:Music
ATTACH;FMTTYPE=image/jpeg:https://boothbayoperahouse.com/site/wp-content/uploads/lara-Tupper-and-Bobby-Sweet-by-Robert-Mitchell-e1770834138899.jpg
END:VEVENT
BEGIN:VEVENT
DTSTART;TZID=America/New_York:20260425T193000
DTEND;TZID=America/New_York:20260425T193000
DTSTAMP:20260423T175829
CREATED:20260109T183913Z
LAST-MODIFIED:20260109T185742Z
UID:5742-1777145400-1777145400@boothbayoperahouse.com
SUMMARY:Ellis Paul - solo acoustic
DESCRIPTION:Ellis Paul is a songwriter\, author\, illustrator\, and teacher. He has been a constant presence on the American folk circuit for over thirty years. In that time\, he has released twenty two albums of original music and performed over 5\,000 shows. His songs have made their into big screen features including blockbuster films such as: Me\, Myself & Irene\, Shallow Hal and Hall Pass\, as well as having been recorded by Grammy award winning country artists. His stage performance is a combination of humor\, improv\, and poignant story songs. He has performed on stages at the Newport Folk Festival\, Carnegie Hall\, clubs and coffeehouses all over the world\, and was awarded an Honorary Degree from the University of Maine and inducted into the Maine Music Hall of Fame. He has received numerous award including fifteen Boston Music Awards and the prestigious Kerrville New Folk Award. Advance tickets $25\, from the box office at 207-633-5159. Regular tickets $30 online and day of show. \nFor those who check out the video link\, Ellis at the piano was filmed at the Opera House after everyone had packed up\, during the holiday season – notice trees in the background. when Ellis arrives here at the Opera House\, it always feels to us as though he’s come home. Help us welcome him back this season.
URL:https://boothbayoperahouse.com/event/ellis-paul-solo-acoustic/
LOCATION:The Opera House at Boothbay Harbor\, 86 Townsend Avenue\, Boothbay Harbor\, 04538\, United States
CATEGORIES:Music
ATTACH;FMTTYPE=image/jpeg:https://boothbayoperahouse.com/site/wp-content/uploads/Ellis-Paul-2-e1731523796862.jpg
END:VEVENT
BEGIN:VEVENT
DTSTART;TZID=America/New_York:20260418T193000
DTEND;TZID=America/New_York:20260418T193000
DTSTAMP:20260423T175829
CREATED:20260113T165145Z
LAST-MODIFIED:20260417T174456Z
UID:5758-1776540600-1776540600@boothbayoperahouse.com
SUMMARY:The Boneheads – Tickets available at the door beginning at 6:30 pm
DESCRIPTION:Come Into the Mystic tonight and be prepared\, perhaps\, to Moondance\, maybe with a Brown Eyed-Girl\, as The Boneheads play the music of V. Morrison and others. These uber-talented musicians never ever fail to entertain – come out tonight and support local music. Advance tickets $20\, from the box office only. Regular tickets $25\, online and day of show (if available). \nSponsored by J. Edward Knight Insurance!
URL:https://boothbayoperahouse.com/event/the-boneheads-3/
LOCATION:The Opera House at Boothbay Harbor\, 86 Townsend Avenue\, Boothbay Harbor\, 04538\, United States
CATEGORIES:Music
ATTACH;FMTTYPE=image/jpeg:https://boothbayoperahouse.com/site/wp-content/uploads/Boneheads-and-Mackerels-4.jpg
END:VEVENT
BEGIN:VEVENT
DTSTART;TZID=America/New_York:20260411T190000
DTEND;TZID=America/New_York:20260411T190000
DTSTAMP:20260423T175829
CREATED:20260109T183230Z
LAST-MODIFIED:20260410T183259Z
UID:5740-1775934000-1775934000@boothbayoperahouse.com
SUMMARY:Caribbean Night with Pan Fried Steel - Tickets available at the door beginning at 6pm
DESCRIPTION:Featuring the steel drum sounds of Pan Fried Steel – be transported to your favorite Caribbean Island without the hassle of packing or flying!  Come listen to the two dozen steel drums and feel free to slip on your favorite sandals\, perhaps your best beach clothing and join us tonight for this harbinger of Spring! Advance discounted tickets are $10\, directly from the box office at 207-633-5159. Regular tickets are $15 online and day of show. Doors open at 6:30. All ages.
URL:https://boothbayoperahouse.com/event/caribbean-night-with-pan-fried-steel/
CATEGORIES:Music
ATTACH;FMTTYPE=image/jpeg:https://boothbayoperahouse.com/site/wp-content/uploads/Caribbean-small-1.jpg
END:VEVENT
BEGIN:VEVENT
DTSTART;TZID=America/New_York:20260327T180000
DTEND;TZID=America/New_York:20260327T180000
DTSTAMP:20260423T175829
CREATED:20251221T195413Z
LAST-MODIFIED:20260304T185041Z
UID:5716-1774634400-1774634400@boothbayoperahouse.com
SUMMARY:Y-ARTS Community Players Present Alice in Wonderland
DESCRIPTION:Performances March 27\, 28\, 29. Under the direction of Emily Mirable\, the Y-Arts Community Players bring Alice in Wonderland to the stage this spring. Tickets are $10 in advance\, all ages\, and regular tickets are $15 on the day of the performance.  Four performances including Friday\, March 27 at 6pm\,  Saturday at 2pm and 6pm\, and Sunday at 2pm.  Limited seating\, buy your tickets early! \nAdvance Discounted Tickets available at the Opera House box office – open Weds-Friday from 10am – 2pm – or call 207-633-5159. Tickets are NOT available at the YMCA.
URL:https://boothbayoperahouse.com/event/y-arts-community-players-present-alice-in-wonderland/
CATEGORIES:Special Event
ATTACH;FMTTYPE=image/jpeg:https://boothbayoperahouse.com/site/wp-content/uploads/Alice-in-Wonderland-e1768422648122.jpg
END:VEVENT
END:VCALENDAR